Workbook

Sheet Angebote
A1: Angebotsnr. | B1: Kunde | C1: Ansprechpartner | D1: Teil | E1: Versanddatum | F1: Angebotswert € | G1: Status | H1: Nachfass 1 (WT 2) | I1: erl. | J1: Nachfass 2 (WT 5) | K1: erl. | L1: Nachfass 3 (WT 8) | M1: erl. | N1: Nachfass 4 (WT 14) | O1: erl. | P1: Nachfass 5 (WT 21) | Q1: erl. | R1: nächster Termin | S1: Notiz
A2: 2026-118 | B2: Muster GmbH | C2: Herr Müller | D2: Baugruppe, 3 Stück | E2: 46302 | F2: 18400 | G2: offen | H2: =IF($E2="","",WORKDAY($E2,1,Feiertage!$A$2:$A$60)) | J2: =IF($E2="","",WORKDAY($E2,4,Feiertage!$A$2:$A$60)) | L2: =IF($E2="","",WORKDAY($E2,7,Feiertage!$A$2:$A$60)) | N2: =IF($E2="","",WORKDAY($E2,13,Feiertage!$A$2:$A$60)) | P2: =IF($E2="","",WORKDAY($E2,20,Feiertage!$A$2:$A$60)) | R2: =IF(OR($E2="",$G2<>"offen"),"",IFERROR(MIN(IF(AND(H2<>"",I2=""),H2,""),IF(AND(J2<>"",K2=""),J2,""),IF(AND(L2<>"",M2=""),L2,""),IF(AND(N2<>"",O2=""),N2,""),IF(AND(P2<>"",Q2=""),P2,"")),""))
H3: =IF($E3="","",WORKDAY($E3,1,Feiertage!$A$2:$A$60)) | J3: =IF($E3="","",WORKDAY($E3,4,Feiertage!$A$2:$A$60)) | L3: =IF($E3="","",WORKDAY($E3,7,Feiertage!$A$2:$A$60)) | N3: =IF($E3="","",WORKDAY($E3,13,Feiertage!$A$2:$A$60)) | P3: =IF($E3="","",WORKDAY($E3,20,Feiertage!$A$2:$A$60)) | R3: =IF(OR($E3="",$G3<>"offen"),"",IFERROR(MIN(IF(AND(H3<>"",I3=""),H3,""),IF(AND(J3<>"",K3=""),J3,""),IF(AND(L3<>"",M3=""),L3,""),IF(AND(N3<>"",O3=""),N3,""),IF(AND(P3<>"",Q3=""),P3,"")),""))
H4: =IF($E4="","",WORKDAY($E4,1,Feiertage!$A$2:$A$60)) | J4: =IF($E4="","",WORKDAY($E4,4,Feiertage!$A$2:$A$60)) | L4: =IF($E4="","",WORKDAY($E4,7,Feiertage!$A$2:$A$60)) | N4: =IF($E4="","",WORKDAY($E4,13,Feiertage!$A$2:$A$60)) | P4: =IF($E4="","",WORKDAY($E4,20,Feiertage!$A$2:$A$60)) | R4: =IF(OR($E4="",$G4<>"offen"),"",IFERROR(MIN(IF(AND(H4<>"",I4=""),H4,""),IF(AND(J4<>"",K4=""),J4,""),IF(AND(L4<>"",M4=""),L4,""),IF(AND(N4<>"",O4=""),N4,""),IF(AND(P4<>"",Q4=""),P4,"")),""))
H5: =IF($E5="","",WORKDAY($E5,1,Feiertage!$A$2:$A$60)) | J5: =IF($E5="","",WORKDAY($E5,4,Feiertage!$A$2:$A$60)) | L5: =IF($E5="","",WORKDAY($E5,7,Feiertage!$A$2:$A$60)) | N5: =IF($E5="","",WORKDAY($E5,13,Feiertage!$A$2:$A$60)) | P5: =IF($E5="","",WORKDAY($E5,20,Feiertage!$A$2:$A$60)) | R5: =IF(OR($E5="",$G5<>"offen"),"",IFERROR(MIN(IF(AND(H5<>"",I5=""),H5,""),IF(AND(J5<>"",K5=""),J5,""),IF(AND(L5<>"",M5=""),L5,""),IF(AND(N5<>"",O5=""),N5,""),IF(AND(P5<>"",Q5=""),P5,"")),""))
H6: =IF($E6="","",WORKDAY($E6,1,Feiertage!$A$2:$A$60)) | J6: =IF($E6="","",WORKDAY($E6,4,Feiertage!$A$2:$A$60)) | L6: =IF($E6="","",WORKDAY($E6,7,Feiertage!$A$2:$A$60)) | N6: =IF($E6="","",WORKDAY($E6,13,Feiertage!$A$2:$A$60)) | P6: =IF($E6="","",WORKDAY($E6,20,Feiertage!$A$2:$A$60)) | R6: =IF(OR($E6="",$G6<>"offen"),"",IFERROR(MIN(IF(AND(H6<>"",I6=""),H6,""),IF(AND(J6<>"",K6=""),J6,""),IF(AND(L6<>"",M6=""),L6,""),IF(AND(N6<>"",O6=""),N6,""),IF(AND(P6<>"",Q6=""),P6,"")),""))
H7: =IF($E7="","",WORKDAY($E7,1,Feiertage!$A$2:$A$60)) | J7: =IF($E7="","",WORKDAY($E7,4,Feiertage!$A$2:$A$60)) | L7: =IF($E7="","",WORKDAY($E7,7,Feiertage!$A$2:$A$60)) | N7: =IF($E7="","",WORKDAY($E7,13,Feiertage!$A$2:$A$60)) | P7: =IF($E7="","",WORKDAY($E7,20,Feiertage!$A$2:$A$60)) | R7: =IF(OR($E7="",$G7<>"offen"),"",IFERROR(MIN(IF(AND(H7<>"",I7=""),H7,""),IF(AND(J7<>"",K7=""),J7,""),IF(AND(L7<>"",M7=""),L7,""),IF(AND(N7<>"",O7=""),N7,""),IF(AND(P7<>"",Q7=""),P7,"")),""))
H8: =IF($E8="","",WORKDAY($E8,1,Feiertage!$A$2:$A$60)) | J8: =IF($E8="","",WORKDAY($E8,4,Feiertage!$A$2:$A$60)) | L8: =IF($E8="","",WORKDAY($E8,7,Feiertage!$A$2:$A$60)) | N8: =IF($E8="","",WORKDAY($E8,13,Feiertage!$A$2:$A$60)) | P8: =IF($E8="","",WORKDAY($E8,20,Feiertage!$A$2:$A$60)) | R8: =IF(OR($E8="",$G8<>"offen"),"",IFERROR(MIN(IF(AND(H8<>"",I8=""),H8,""),IF(AND(J8<>"",K8=""),J8,""),IF(AND(L8<>"",M8=""),L8,""),IF(AND(N8<>"",O8=""),N8,""),IF(AND(P8<>"",Q8=""),P8,"")),""))
H9: =IF($E9="","",WORKDAY($E9,1,Feiertage!$A$2:$A$60)) | J9: =IF($E9="","",WORKDAY($E9,4,Feiertage!$A$2:$A$60)) | L9: =IF($E9="","",WORKDAY($E9,7,Feiertage!$A$2:$A$60)) | N9: =IF($E9="","",WORKDAY($E9,13,Feiertage!$A$2:$A$60)) | P9: =IF($E9="","",WORKDAY($E9,20,Feiertage!$A$2:$A$60)) | R9: =IF(OR($E9="",$G9<>"offen"),"",IFERROR(MIN(IF(AND(H9<>"",I9=""),H9,""),IF(AND(J9<>"",K9=""),J9,""),IF(AND(L9<>"",M9=""),L9,""),IF(AND(N9<>"",O9=""),N9,""),IF(AND(P9<>"",Q9=""),P9,"")),""))
H10: =IF($E10="","",WORKDAY($E10,1,Feiertage!$A$2:$A$60)) | J10: =IF($E10="","",WORKDAY($E10,4,Feiertage!$A$2:$A$60)) | L10: =IF($E10="","",WORKDAY($E10,7,Feiertage!$A$2:$A$60)) | N10: =IF($E10="","",WORKDAY($E10,13,Feiertage!$A$2:$A$60)) | P10: =IF($E10="","",WORKDAY($E10,20,Feiertage!$A$2:$A$60)) | R10: =IF(OR($E10="",$G10<>"offen"),"",IFERROR(MIN(IF(AND(H10<>"",I10=""),H10,""),IF(AND(J10<>"",K10=""),J10,""),IF(AND(L10<>"",M10=""),L10,""),IF(AND(N10<>"",O10=""),N10,""),IF(AND(P10<>"",Q10=""),P10,"")),""))
H11: =IF($E11="","",WORKDAY($E11,1,Feiertage!$A$2:$A$60)) | J11: =IF($E11="","",WORKDAY($E11,4,Feiertage!$A$2:$A$60)) | L11: =IF($E11="","",WORKDAY($E11,7,Feiertage!$A$2:$A$60)) | N11: =IF($E11="","",WORKDAY($E11,13,Feiertage!$A$2:$A$60)) | P11: =IF($E11="","",WORKDAY($E11,20,Feiertage!$A$2:$A$60)) | R11: =IF(OR($E11="",$G11<>"offen"),"",IFERROR(MIN(IF(AND(H11<>"",I11=""),H11,""),IF(AND(J11<>"",K11=""),J11,""),IF(AND(L11<>"",M11=""),L11,""),IF(AND(N11<>"",O11=""),N11,""),IF(AND(P11<>"",Q11=""),P11,"")),""))
H12: =IF($E12="","",WORKDAY($E12,1,Feiertage!$A$2:$A$60)) | J12: =IF($E12="","",WORKDAY($E12,4,Feiertage!$A$2:$A$60)) | L12: =IF($E12="","",WORKDAY($E12,7,Feiertage!$A$2:$A$60)) | N12: =IF($E12="","",WORKDAY($E12,13,Feiertage!$A$2:$A$60)) | P12: =IF($E12="","",WORKDAY($E12,20,Feiertage!$A$2:$A$60)) | R12: =IF(OR($E12="",$G12<>"offen"),"",IFERROR(MIN(IF(AND(H12<>"",I12=""),H12,""),IF(AND(J12<>"",K12=""),J12,""),IF(AND(L12<>"",M12=""),L12,""),IF(AND(N12<>"",O12=""),N12,""),IF(AND(P12<>"",Q12=""),P12,"")),""))
H13: =IF($E13="","",WORKDAY($E13,1,Feiertage!$A$2:$A$60)) | J13: =IF($E13="","",WORKDAY($E13,4,Feiertage!$A$2:$A$60)) | L13: =IF($E13="","",WORKDAY($E13,7,Feiertage!$A$2:$A$60)) | N13: =IF($E13="","",WORKDAY($E13,13,Feiertage!$A$2:$A$60)) | P13: =IF($E13="","",WORKDAY($E13,20,Feiertage!$A$2:$A$60)) | R13: =IF(OR($E13="",$G13<>"offen"),"",IFERROR(MIN(IF(AND(H13<>"",I13=""),H13,""),IF(AND(J13<>"",K13=""),J13,""),IF(AND(L13<>"",M13=""),L13,""),IF(AND(N13<>"",O13=""),N13,""),IF(AND(P13<>"",Q13=""),P13,"")),""))
H14: =IF($E14="","",WORKDAY($E14,1,Feiertage!$A$2:$A$60)) | J14: =IF($E14="","",WORKDAY($E14,4,Feiertage!$A$2:$A$60)) | L14: =IF($E14="","",WORKDAY($E14,7,Feiertage!$A$2:$A$60)) | N14: =IF($E14="","",WORKDAY($E14,13,Feiertage!$A$2:$A$60)) | P14: =IF($E14="","",WORKDAY($E14,20,Feiertage!$A$2:$A$60)) | R14: =IF(OR($E14="",$G14<>"offen"),"",IFERROR(MIN(IF(AND(H14<>"",I14=""),H14,""),IF(AND(J14<>"",K14=""),J14,""),IF(AND(L14<>"",M14=""),L14,""),IF(AND(N14<>"",O14=""),N14,""),IF(AND(P14<>"",Q14=""),P14,"")),""))
... H201: =IF($E201="","",WORKDAY($E201,1,Feiertage!$A$2:$A$60)) | J201: =IF($E201="","",WORKDAY($E201,4,Feiertage!$A$2:$A$60)) | L201: =IF($E201="","",WORKDAY($E201,7,Feiertage!$A$2:$A$60)) | N201: =IF($E201="","",WORKDAY($E201,13,Feiertage!$A$2:$A$60)) | P201: =IF($E201="","",WORKDAY($E201,20,Feiertage!$A$2:$A$60)) | R201: =IF(OR($E201="",$G201<>"offen"),"",IFERROR(MIN(IF(AND(H201<>"",I201=""),H201,""),IF(AND(J201<>"",K201=""),J201,""),IF(AND(L201<>"",M201=""),L201,""),IF(AND(N201<>"",O201=""),N201,""),IF(AND(P201<>"",Q201=""),P201,"")),""))

Sheet Feiertage
A1: Feiertag (Datum) | B1: Bezeichnung
A2: 46298 | B2: Tag der Deutschen Einheit
A3: 46326 | B3: Reformationstag (Sachsen)
A4: 46344 | B4: Buß- und Bettag (Sachsen)
A5: 46381 | B5: 1. Weihnachtstag
A6: 46382 | B6: 2. Weihnachtstag
A7: 46388 | B7: Neujahr
A8: 46479 | B8: Karfreitag
A9: 46482 | B9: Ostermontag
A10: 46508 | B10: Tag der Arbeit
A11: 46520 | B11: Christi Himmelfahrt
A12: 46531 | B12: Pfingstmontag

Sheet So geht es
A1: Angebotsverfolgung: Vorlage von Conrad Caffier, caffier-agency.com
A3: 1. Jedes Angebot direkt nach dem Versand als Zeile eintragen: Nummer, Kunde, Teil, Versanddatum, Wert, Status offen.
A4: 2. Die fünf Nachfass-Termine rechnet die Tabelle: Werktag 2, 5, 8, 14 und 21 nach dem Versand, Wochenenden und die Feiertage aus dem Blatt Feiertage übersprungen.
A5: 3. Einmal am Tag nach „nächster Termin“ sortieren, die fälligen Mails schreiben, in der Spalte erl. ein x setzen.
A6: 4. Status pflegen: offen, Auftrag, abgesagt, keine Antwort. Bei Auftrag oder Absage verschwindet der nächste Termin.
A8: Gründe für die fünf Mails: Vollständigkeit (WT 2), Wer prüft mit (WT 5), Zeitpunkt (WT 8), Alternative (WT 14), Abschluss (WT 21).
A9: Die fertigen Mailtexte gibt es kostenlos unter caffier-agency.com/nachfassen-ohne-zu-nerven.
A11: Die Tabelle erinnert niemanden. Das ist ihre Grenze, und der Grund, warum es die Angebotssicherung gibt.
